BEGIN:VCALENDAR
VERSION:2.0
PRODID:icalendar-ruby
CALSCALE:GREGORIAN
METHOD:PUBLISH
BEGIN:VEVENT
DTSTAMP:20260420T030646Z
UID:191-1001050@gracelutheran1.org
DTSTART:20260730T000000Z
DTEND:20260730T010000Z
CLASS:PUBLIC
CREATED:20260419T205822
DESCRIPTION:All high schoolers are welcome! For more information\, or to RS
 VP please contact youth@gracelutheran1.org
LAST-MODIFIED:20260419T205822
LOCATION:
SUMMARY:High School Youth Meeting
URL;VALUE=URI:https://www.gracelutheran1.org/events/high-school-youth-meeti
 ng/2026-07-29
END:VEVENT
END:VCALENDAR
