BEGIN:VCALENDAR
VERSION:2.0
PRODID:icalendar-ruby
CALSCALE:GREGORIAN
METHOD:PUBLISH
BEGIN:VEVENT
DTSTAMP:20260420T162034Z
UID:191-1003509@gracelutheran1.org
DTSTART:20260917T000000Z
DTEND:20260917T010000Z
CLASS:PUBLIC
CREATED:20260420T105817
DESCRIPTION:All high schoolers are welcome! For more information\, or to RS
 VP please contact youth@gracelutheran1.org
LAST-MODIFIED:20260420T105817
LOCATION:
SUMMARY:High School Youth Meeting
URL;VALUE=URI:https://www.gracelutheran1.org/events/high-school-youth-meeti
 ng/2026-09-16
END:VEVENT
END:VCALENDAR
