BEGIN:VCALENDAR
VERSION:2.0
PRODID:icalendar-ruby
CALSCALE:GREGORIAN
METHOD:PUBLISH
BEGIN:VEVENT
DTSTAMP:20260423T122534Z
UID:191-1013325@gracelutheran1.org
DTSTART:20261105T010000Z
DTEND:20261105T020000Z
CLASS:PUBLIC
CREATED:20260423T055523
DESCRIPTION:All high schoolers are welcome! For more information\, or to RS
 VP please contact youth@gracelutheran1.org
LAST-MODIFIED:20260423T055523
LOCATION:
SUMMARY:High School Youth Meeting
URL;VALUE=URI:https://www.gracelutheran1.org/events/high-school-youth-meeti
 ng/2026-11-04
END:VEVENT
END:VCALENDAR
