BEGIN:VCALENDAR
VERSION:2.0
PRODID:icalendar-ruby
CALSCALE:GREGORIAN
METHOD:PUBLISH
BEGIN:VEVENT
DTSTAMP:20260419T154622Z
UID:192-994949@gracelutheran1.org
DTSTART:20260426T143000Z
DTEND:20260426T153000Z
CLASS:PUBLIC
CREATED:20260418T073132
DESCRIPTION:The meeting takes place after the 9:30am service. Please let us
  know if you have questions or would like more information
LAST-MODIFIED:20260418T073132
LOCATION:
SUMMARY:Men's Group Meeting
URL;VALUE=URI:https://www.gracelutheran1.org/events/mens-group-meeting/2026
 -04-26
END:VEVENT
END:VCALENDAR
